BEGIN:VCALENDAR
VERSION:2.0
PRODID:-//Squarespace Inc/Squarespace 6//v6//EN
BEGIN:VEVENT
UID:5ddda8998dca785171a29dac@squarespace.com
DTSTAMP:20191126T224244Z
DTSTART:20191224T050000Z
DTEND:20191224T060000Z
SUMMARY:Christmas Eve Service
GEO:-38.680776;176.087822
LOCATION:C3 Church Taupo\, 11 Totara Street\, Taupo\, New Zealand
END:VEVENT
END:VCALENDAR
