BEGIN:VCALENDAR
VERSION:2.0
PRODID:-//Squarespace Inc/Squarespace 6//v6//EN
BEGIN:VEVENT
UID:5dddaa8ce6b17d4a8f11edf3@squarespace.com
DTSTAMP:20191126T224400Z
DTSTART:20191222T050000Z
DTEND:20191222T060000Z
SUMMARY:Christmas Service 6PM
GEO:-38.680776;176.087822
LOCATION:C3 Church Taupo\, 11 Totara Street\, Taupo\, New Zealand
END:VEVENT
END:VCALENDAR
