BEGIN:VCALENDAR
VERSION:2.0
PRODID:-//Squarespace Inc/Squarespace 6//v6//EN
BEGIN:VEVENT
UID:5dddaabb7c842e3e2ea88d18@squarespace.com
DTSTAMP:20191126T224452Z
DTSTART:20191221T210000Z
DTEND:20191221T223000Z
SUMMARY:Christmas Service 10AM
GEO:-38.680776;176.087822
LOCATION:C3 Church Taupo\, 11 Totara Street\, Taupo\, New Zealand
END:VEVENT
END:VCALENDAR
