BEGIN:VCALENDAR
VERSION:2.0
PRODID:-//Squarespace Inc/Squarespace 6//v6//EN
BEGIN:VEVENT
UID:5d4a0f795190b40001907734@squarespace.com
DTSTAMP:20190827T003837Z
DTSTART:20191031T040000Z
DTEND:20191031T060000Z
SUMMARY:Light Party - Jungle Safari
END:VEVENT
END:VCALENDAR
