BEGIN:VCALENDAR
VERSION:2.0
PRODID:-//Squarespace Inc/Squarespace 6//v6//EN
BEGIN:VEVENT
UID:5d537f490cc4f6000169a9d7@squarespace.com
DTSTAMP:20190814T033058Z
DTSTART:20191026T210000Z
DTEND:20191026T223000Z
SUMMARY:Ps. Aaron Hardy and Ps. Mark Percy
GEO:-38.680776;176.087822
LOCATION:C3 Church Taupo\, 11 Totara Street\, Taupo\, Waikato\, 3330\, New 
 Zealand
END:VEVENT
END:VCALENDAR
