BEGIN:VCALENDAR
VERSION:2.0
PRODID:-//Squarespace Inc/Squarespace 6//v6//EN
BEGIN:VEVENT
UID:5d5380728fddc10001d3295e@squarespace.com
DTSTAMP:20190827T004306Z
DTSTART:20191027T050000Z
DTEND:20191027T063000Z
SUMMARY:Guest Ps. Aaron Hardy   and Ps. Mark Percy
GEO:-38.680776;176.087822
LOCATION:C3 Church Taupo\, 11 Totara Street\, Taupo\, Waikato\, 3330\, New 
 Zealand
END:VEVENT
END:VCALENDAR
