BEGIN:VCALENDAR
VERSION:2.0
PRODID:-//Squarespace Inc/Squarespace 6//v6//EN
BEGIN:VEVENT
UID:5c5ce16b24a694ad0afa8ef9@squarespace.com
DTSTAMP:20190813T021230Z
DTSTART:20191107T060000Z
DTEND:20191107T080000Z
SUMMARY:Lavish Ladies
END:VEVENT
END:VCALENDAR
